BEGIN:VCALENDAR
VERSION:2.0
PRODID:icalendar-ruby
CALSCALE:GREGORIAN
METHOD:PUBLISH
BEGIN:VEVENT
DTSTAMP:20260421T170219Z
UID:202-682803@humeridge.church
DTSTART:20260505T233000Z
DTEND:20260506T010000Z
CLASS:PUBLIC
CREATED:20260420T125341
DESCRIPTION:
LAST-MODIFIED:20260420T125341
LOCATION:HumeRidge Church of Christ
SUMMARY:KYB (Wed)
URL;VALUE=URI:https://www.humeridge.church/events/kyb-wed--202/2026-05-06
ATTACH;FILENAME=KYB Event.png;FMTTYPE=image/png:https://dq5pwpg1q8ru0.cloud
 front.net/2026/04/20/02/53/41/544648f9-0cfd-40bf-a1bf-be94196edda1/KYB%20E
 vent.png
END:VEVENT
END:VCALENDAR
