BEGIN:VCALENDAR
VERSION:2.0
PRODID:icalendar-ruby
CALSCALE:GREGORIAN
METHOD:PUBLISH
BEGIN:VEVENT
DTSTAMP:20260423T175845Z
UID:199-682566@humeridge.church
DTSTART:20260514T233000Z
DTEND:20260515T010000Z
CLASS:PUBLIC
CREATED:20260420T124445
DESCRIPTION:
LAST-MODIFIED:20260420T124445
LOCATION:HumeRidge Church of Christ
SUMMARY:Mainly Music
URL;VALUE=URI:https://www.humeridge.church/events/mainly-music--199/2026-05
 -15
ATTACH;FILENAME=Mainly Music Event.jpg;FMTTYPE=image/jpeg:https://dq5pwpg1q
 8ru0.cloudfront.net/2026/04/20/02/44/45/33710d55-d435-446e-8061-1e50162a7f
 58/Mainly%20Music%20Event.jpg
END:VEVENT
END:VCALENDAR
