BEGIN:VCALENDAR
VERSION:2.0
PRODID:icalendar-ruby
CALSCALE:GREGORIAN
METHOD:PUBLISH
BEGIN:VEVENT
DTSTAMP:20260421T130013Z
UID:194-682529@humeridge.church
DTSTART:20260420T233000Z
DTEND:20260421T010000Z
CLASS:PUBLIC
CREATED:20260420T123111
DESCRIPTION:
LAST-MODIFIED:20260420T123111
LOCATION:HumeRidge Church of Christ
SUMMARY:Playgroup
URL;VALUE=URI:https://www.humeridge.church/events/playgroup--194/2026-04-21
ATTACH;FILENAME=Playgroup Event.png;FMTTYPE=image/png:https://dq5pwpg1q8ru0
 .cloudfront.net/2026/04/20/02/31/10/d7b4a946-401a-47b1-8c61-acb6f0ca094f/P
 laygroup%20Event.png
END:VEVENT
END:VCALENDAR
