BEGIN:VCALENDAR
VERSION:2.0
PRODID:icalendar-ruby
CALSCALE:GREGORIAN
METHOD:PUBLISH
BEGIN:VEVENT
DTSTAMP:20260423T104721Z
UID:204-682821@humeridge.church
DTSTART:20260422T233000Z
DTEND:20260423T013000Z
CLASS:PUBLIC
CREATED:20260420T130011
DESCRIPTION:
LAST-MODIFIED:20260420T130011
LOCATION:HumeRidge Church of Christ
SUMMARY:Stitch & Chatter
URL;VALUE=URI:https://www.humeridge.church/events/stitch-chatter--204/2026-
 04-23
ATTACH;FILENAME=Stich & Chatter Event.png;FMTTYPE=image/png:https://dq5pwpg
 1q8ru0.cloudfront.net/2026/04/20/03/00/11/863adaa9-e5df-4447-8070-f8cb2fab
 21cf/Stich%20&%20Chatter%20Event.png
END:VEVENT
END:VCALENDAR
